BEGIN:VCALENDAR
VERSION:2.0
PRODID:-//Lake Piru - ECPv6.15.15//NONSGML v1.0//EN
CALSCALE:GREGORIAN
METHOD:PUBLISH
X-WR-CALNAME:Lake Piru
X-ORIGINAL-URL:https://explorelakepiru.com
X-WR-CALDESC:Events for Lake Piru
REFRESH-INTERVAL;VALUE=DURATION:PT1H
X-Robots-Tag:noindex
X-PUBLISHED-TTL:PT1H
BEGIN:VTIMEZONE
TZID:America/Los_Angeles
BEGIN:DAYLIGHT
TZOFFSETFROM:-0800
TZOFFSETTO:-0700
TZNAME:PDT
DTSTART:20210314T100000
END:DAYLIGHT
BEGIN:STANDARD
TZOFFSETFROM:-0700
TZOFFSETTO:-0800
TZNAME:PST
DTSTART:20211107T090000
END:STANDARD
BEGIN:DAYLIGHT
TZOFFSETFROM:-0800
TZOFFSETTO:-0700
TZNAME:PDT
DTSTART:20220313T100000
END:DAYLIGHT
BEGIN:STANDARD
TZOFFSETFROM:-0700
TZOFFSETTO:-0800
TZNAME:PST
DTSTART:20221106T090000
END:STANDARD
BEGIN:DAYLIGHT
TZOFFSETFROM:-0800
TZOFFSETTO:-0700
TZNAME:PDT
DTSTART:20230312T100000
END:DAYLIGHT
BEGIN:STANDARD
TZOFFSETFROM:-0700
TZOFFSETTO:-0800
TZNAME:PST
DTSTART:20231105T090000
END:STANDARD
BEGIN:DAYLIGHT
TZOFFSETFROM:-0800
TZOFFSETTO:-0700
TZNAME:PDT
DTSTART:20240310T100000
END:DAYLIGHT
BEGIN:STANDARD
TZOFFSETFROM:-0700
TZOFFSETTO:-0800
TZNAME:PST
DTSTART:20241103T090000
END:STANDARD
BEGIN:DAYLIGHT
TZOFFSETFROM:-0800
TZOFFSETTO:-0700
TZNAME:PDT
DTSTART:20250309T100000
END:DAYLIGHT
BEGIN:STANDARD
TZOFFSETFROM:-0700
TZOFFSETTO:-0800
TZNAME:PST
DTSTART:20251102T090000
END:STANDARD
END:VTIMEZONE
BEGIN:VEVENT
DTSTART;TZID=America/Los_Angeles:20240706T170000
DTEND;TZID=America/Los_Angeles:20240706T180000
DTSTAMP:20260421T075138
CREATED:20240718T181948Z
LAST-MODIFIED:20250522T162820Z
UID:10000017-1720285200-1720288800@explorelakepiru.com
SUMMARY:S'mores and Stories at Lake Piru
DESCRIPTION:Enjoy presentations from: \n\nFernandeño Tataviam Band of Mission Indians\nFriends of Condors\nUnited Water Conservation District\n\nJoin us for our expert led\, family friendly educational presentations on the local wildlife\, ecology\, culture\, and the Santa Clara River watershed.
URL:https://explorelakepiru.com/event/smores-and-stories-at-lake-piru/2024-07-06/
LOCATION:Group Picnic Site\, CA
CATEGORIES:S’mores and Stories at Lake Piru
ATTACH;FMTTYPE=image/png:https://explorelakepiru.com/wp-content/uploads/2024/07/UWCD_LP_SmoresAug24.png
END:VEVENT
BEGIN:VEVENT
DTSTART;TZID=America/Los_Angeles:20220813T173000
DTEND;TZID=America/Los_Angeles:20220814T023000
DTSTAMP:20260421T075138
CREATED:20220322T003339Z
LAST-MODIFIED:20250522T162806Z
UID:10000016-1660411800-1660444200@explorelakepiru.com
SUMMARY:Twilight Fishing
DESCRIPTION:Nighttime fishing event \n$10 boat launch fee\, $5 parking\, $3 Walk in \nEvent is from 5:30 p.m.-2:30 a.m. \nRules and Requirements
URL:https://explorelakepiru.com/event/twilight-fishing-5/
CATEGORIES:Twilight Fishing
ATTACH;FMTTYPE=image/jpeg:https://explorelakepiru.com/wp-content/uploads/2022/03/Twilight-23-scaled-e1650655138784.jpg
END:VEVENT
BEGIN:VEVENT
DTSTART;TZID=America/Los_Angeles:20220723T173000
DTEND;TZID=America/Los_Angeles:20220724T023000
DTSTAMP:20260421T075138
CREATED:20220322T003243Z
LAST-MODIFIED:20250522T162806Z
UID:10000015-1658597400-1658629800@explorelakepiru.com
SUMMARY:Twilight Fishing
DESCRIPTION:Nighttime fishing event \n$10 boat launch fee\, $5 parking\, $3 Walk in \nEvent is from 5:30 p.m.-2:30 a.m. \nRules and Requirements
URL:https://explorelakepiru.com/event/twilight-fishing-4/
CATEGORIES:Twilight Fishing
ATTACH;FMTTYPE=image/jpeg:https://explorelakepiru.com/wp-content/uploads/2022/03/Twilight-27-scaled-e1650655069283.jpg
END:VEVENT
BEGIN:VEVENT
DTSTART;TZID=America/Los_Angeles:20220618T173000
DTEND;TZID=America/Los_Angeles:20220619T023000
DTSTAMP:20260421T075138
CREATED:20220322T002859Z
LAST-MODIFIED:20250522T162739Z
UID:10000014-1655573400-1655605800@explorelakepiru.com
SUMMARY:Twilight Fishing
DESCRIPTION:Nighttime fishing event \n$10 boat launch fee\, $5 parking\, $3 Walk in \nEvent is from 5:30 p.m.-2:30 a.m. \nRules and Requirements
URL:https://explorelakepiru.com/event/twilight-fishing-3/
CATEGORIES:Twilight Fishing
ATTACH;FMTTYPE=image/jpeg:https://explorelakepiru.com/wp-content/uploads/2022/03/Twilight-31-scaled-e1650655053233.jpg
END:VEVENT
BEGIN:VEVENT
DTSTART;TZID=America/Los_Angeles:20220514T173000
DTEND;TZID=America/Los_Angeles:20220515T023000
DTSTAMP:20260421T075138
CREATED:20220322T002657Z
LAST-MODIFIED:20250522T162725Z
UID:10000013-1652549400-1652581800@explorelakepiru.com
SUMMARY:Twilight Fishing
DESCRIPTION:Nighttime fishing event \n$10 boat launch fee\, $5 parking\, $3 Walk in \nEvent is from 5:30 p.m.-2:30 a.m. \nRules and Requirements
URL:https://explorelakepiru.com/event/twilight-fishing-2/
CATEGORIES:Twilight Fishing
ATTACH;FMTTYPE=image/jpeg:https://explorelakepiru.com/wp-content/uploads/2022/03/twilight-fishing-lake-piru-scaled.jpeg
END:VEVENT
BEGIN:VEVENT
DTSTART;TZID=America/Los_Angeles:20220416T173000
DTEND;TZID=America/Los_Angeles:20220417T023000
DTSTAMP:20260421T075138
CREATED:20220322T002345Z
LAST-MODIFIED:20250522T162704Z
UID:10000012-1650130200-1650162600@explorelakepiru.com
SUMMARY:Twilight Fishing
DESCRIPTION:Twilight Fishing Series \nNighttime fishing event \n$10 boat launch fee\, $5 parking\, $3 Walk in \nEvent is from 5:30 p.m.-2:30 a.m.
URL:https://explorelakepiru.com/event/twilight-fishing/
CATEGORIES:Twilight Fishing
END:VEVENT
END:VCALENDAR